BEGIN:VCALENDAR
VERSION:2.0
PRODID:-//YWCA Thompson - ECPv6.10.0//NONSGML v1.0//EN
CALSCALE:GREGORIAN
METHOD:PUBLISH
X-WR-CALNAME:YWCA Thompson
X-ORIGINAL-URL:https://ywcathompson.com
X-WR-CALDESC:Events for YWCA Thompson
REFRESH-INTERVAL;VALUE=DURATION:PT1H
X-Robots-Tag:noindex
X-PUBLISHED-TTL:PT1H
BEGIN:VTIMEZONE
TZID:America/Winnipeg
BEGIN:DAYLIGHT
TZOFFSETFROM:-0600
TZOFFSETTO:-0500
TZNAME:CDT
DTSTART:20190310T080000
END:DAYLIGHT
BEGIN:STANDARD
TZOFFSETFROM:-0500
TZOFFSETTO:-0600
TZNAME:CST
DTSTART:20191103T070000
END:STANDARD
BEGIN:DAYLIGHT
TZOFFSETFROM:-0600
TZOFFSETTO:-0500
TZNAME:CDT
DTSTART:20200308T080000
END:DAYLIGHT
BEGIN:STANDARD
TZOFFSETFROM:-0500
TZOFFSETTO:-0600
TZNAME:CST
DTSTART:20201101T070000
END:STANDARD
END:VTIMEZONE
BEGIN:VEVENT
DTSTART;TZID=America/Winnipeg:20200308T140000
DTEND;TZID=America/Winnipeg:20200308T160000
DTSTAMP:20260421T193331
CREATED:20201111T001507Z
LAST-MODIFIED:20201113T194614Z
UID:3624-1583676000-1583683200@ywcathompson.com
SUMMARY:Laugh-ternoon Comedy Show
DESCRIPTION:The YWCA Thompson is offering this fun\, light-hearted event to celebrate the women in our lives who deserve an afternoon of laughter and fun!\nWe are also launching the #sheinspiresme campaign again this year! \n 
URL:https://ywcathompson.com/event/laugh-ternoon-comedy-show/
LOCATION:Letkemann Theatre\, 272 Thompson Dr N\, Thompson\, Manitoba\, R8N 2B5\, Canada
CATEGORIES:18+ Only,Ticketed
ATTACH;FMTTYPE=image/png:https://ywcathompson.com/wp-content/uploads/2020/11/laughternoon-1.png
END:VEVENT
BEGIN:VEVENT
DTSTART;TZID=America/Winnipeg:20191206T140000
DTEND;TZID=America/Winnipeg:20191206T170000
DTSTAMP:20260421T193331
CREATED:20201113T194308Z
LAST-MODIFIED:20201113T194709Z
UID:3794-1575640800-1575651600@ywcathompson.com
SUMMARY:National Day of Remembrance and Action on Violence Against Women 2019
DESCRIPTION:
URL:https://ywcathompson.com/event/national-day-of-remembrance-and-action-on-violence-against-women-2019/
LOCATION:YWCA Thompson\, 39 Nickel Rd\, Thompson\, MB\, R8N0Y5\, Canada
CATEGORIES:All-Ages
ATTACH;FMTTYPE=image/jpeg:https://ywcathompson.com/wp-content/uploads/2020/11/y-header-bg-march-for-women-ver-2.jpg
END:VEVENT
END:VCALENDAR